BEGIN:VCALENDAR
VERSION:2.0
PRODID:-//Zambia Institute of Chartered Accountants - ECPv4.6.7//NONSGML v1.0//EN
CALSCALE:GREGORIAN
METHOD:PUBLISH
X-WR-CALNAME:Zambia Institute of Chartered Accountants
X-ORIGINAL-URL:https://www.zica.co.zm
X-WR-CALDESC:Events for Zambia Institute of Chartered Accountants
BEGIN:VEVENT
DTSTART;TZID=Africa/Lusaka:20240212T150000
DTEND;TZID=Africa/Lusaka:20240212T180000
DTSTAMP:20260420T104118
CREATED:20240129T030141Z
LAST-MODIFIED:20240129T030224Z
UID:29789-1707750000-1707760800@www.zica.co.zm
SUMMARY:Accountants Forum - Ndola
DESCRIPTION:
URL:https://www.zica.co.zm/event/accountants-forum-2/
CATEGORIES:CPD Calender 2024
ORGANIZER;CN="ZiCA":MAILTO:marketingandcomm@zica.co.zm
END:VEVENT
END:VCALENDAR