BEGIN:VCALENDAR
VERSION:2.0
PRODID:-//Zambia Institute of Chartered Accountants - ECPv4.6.7//NONSGML v1.0//EN
CALSCALE:GREGORIAN
METHOD:PUBLISH
X-WR-CALNAME:Zambia Institute of Chartered Accountants
X-ORIGINAL-URL:https://www.zica.co.zm
X-WR-CALDESC:Events for Zambia Institute of Chartered Accountants
BEGIN:VEVENT
DTSTART;TZID=Africa/Lusaka:20210507T160000
DTEND;TZID=Africa/Lusaka:20210507T180000
DTSTAMP:20260421T044731
CREATED:20210107T163330Z
LAST-MODIFIED:20210107T163330Z
UID:20322-1620403200-1620410400@www.zica.co.zm
SUMMARY:Accountants Forum - Choma
DESCRIPTION:
URL:https://www.zica.co.zm/event/accountants-forum-choma-2/
LOCATION:Choma\, Southern\, 1010\, Zambia
CATEGORIES:CPD Calendar 2020
ORGANIZER;CN="ZiCA":MAILTO:marketingandcomm@zica.co.zm
END:VEVENT
END:VCALENDAR