BEGIN:VCALENDAR
VERSION:2.0
PRODID:-//Zambia Institute of Chartered Accountants - ECPv4.6.7//NONSGML v1.0//EN
CALSCALE:GREGORIAN
METHOD:PUBLISH
X-WR-CALNAME:Zambia Institute of Chartered Accountants
X-ORIGINAL-URL:https://www.zica.co.zm
X-WR-CALDESC:Events for Zambia Institute of Chartered Accountants
BEGIN:VEVENT
DTSTART;TZID=Africa/Lusaka:20200828T180000
DTEND;TZID=Africa/Lusaka:20200828T200000
DTSTAMP:20260423T194857
CREATED:20191127T101052Z
LAST-MODIFIED:20191127T101052Z
UID:17128-1598637600-1598644800@www.zica.co.zm
SUMMARY:Accountants Forum - Kitwe
DESCRIPTION:
URL:https://www.zica.co.zm/event/accountants-forum-kitwe-10/
CATEGORIES:CPD Calendar 2020
END:VEVENT
END:VCALENDAR