BEGIN:VCALENDAR
VERSION:2.0
PRODID:-//Zambia Institute of Chartered Accountants - ECPv4.6.7//NONSGML v1.0//EN
CALSCALE:GREGORIAN
METHOD:PUBLISH
X-WR-CALNAME:Zambia Institute of Chartered Accountants
X-ORIGINAL-URL:https://www.zica.co.zm
X-WR-CALDESC:Events for Zambia Institute of Chartered Accountants
BEGIN:VEVENT
DTSTART;TZID=Africa/Lusaka:20200430T180000
DTEND;TZID=Africa/Lusaka:20200430T200000
DTSTAMP:20260424T005054
CREATED:20191127T094334Z
LAST-MODIFIED:20191127T094334Z
UID:17108-1588269600-1588276800@www.zica.co.zm
SUMMARY:Accountants Forum - Kitwe
DESCRIPTION:
URL:https://www.zica.co.zm/event/accountants-forum-kitwe-9/
CATEGORIES:CPD Calendar 2020
END:VEVENT
END:VCALENDAR