BEGIN:VCALENDAR
VERSION:2.0
PRODID:-//Zambia Institute of Chartered Accountants - ECPv4.6.7//NONSGML v1.0//EN
CALSCALE:GREGORIAN
METHOD:PUBLISH
X-WR-CALNAME:Zambia Institute of Chartered Accountants
X-ORIGINAL-URL:https://www.zica.co.zm
X-WR-CALDESC:Events for Zambia Institute of Chartered Accountants
BEGIN:VEVENT
DTSTART;TZID=Africa/Lusaka:20240425T180000
DTEND;TZID=Africa/Lusaka:20240425T200000
DTSTAMP:20260420T085738
CREATED:20240129T031920Z
LAST-MODIFIED:20240129T031920Z
UID:29807-1714068000-1714075200@www.zica.co.zm
SUMMARY:Accountants Forum Virtual
DESCRIPTION:
URL:https://www.zica.co.zm/event/accountants-forum-virtual/
LOCATION:Zambia
CATEGORIES:CPD Calender 2024
ORGANIZER;CN="ZiCA":MAILTO:marketingandcomm@zica.co.zm
END:VEVENT
END:VCALENDAR