BEGIN:VCALENDAR
VERSION:2.0
PRODID:-//Zambia Institute of Chartered Accountants - ECPv4.6.7//NONSGML v1.0//EN
CALSCALE:GREGORIAN
METHOD:PUBLISH
X-WR-CALNAME:Zambia Institute of Chartered Accountants
X-ORIGINAL-URL:https://www.zica.co.zm
X-WR-CALDESC:Events for Zambia Institute of Chartered Accountants
BEGIN:VEVENT
DTSTART;TZID=Africa/Lusaka:20201112T080000
DTEND;TZID=Africa/Lusaka:20201113T170000
DTSTAMP:20260423T145043
CREATED:20191127T102631Z
LAST-MODIFIED:20191127T102631Z
UID:17142-1605168000-1605286800@www.zica.co.zm
SUMMARY:Accounting Standards Updates
DESCRIPTION:
URL:https://www.zica.co.zm/event/accounting-standards-updates-2/
CATEGORIES:CPD Calendar 2020
END:VEVENT
END:VCALENDAR