BEGIN:VCALENDAR
VERSION:2.0
PRODID:-//Zambia Institute of Chartered Accountants - ECPv4.6.7//NONSGML v1.0//EN
CALSCALE:GREGORIAN
METHOD:PUBLISH
X-WR-CALNAME:Zambia Institute of Chartered Accountants
X-ORIGINAL-URL:https://www.zica.co.zm
X-WR-CALDESC:Events for Zambia Institute of Chartered Accountants
BEGIN:VEVENT
DTSTART;TZID=Africa/Lusaka:20201105T080000
DTEND;TZID=Africa/Lusaka:20201106T170000
DTSTAMP:20260423T143644
CREATED:20191127T102444Z
LAST-MODIFIED:20191127T102444Z
UID:17140-1604563200-1604682000@www.zica.co.zm
SUMMARY:Accounting Standards Updates
DESCRIPTION:
URL:https://www.zica.co.zm/event/accounting-standards-updates/
CATEGORIES:CPD Calendar 2020
END:VEVENT
END:VCALENDAR