BEGIN:VCALENDAR
VERSION:2.0
PRODID:-//Zambia Institute of Chartered Accountants - ECPv4.6.7//NONSGML v1.0//EN
CALSCALE:GREGORIAN
METHOD:PUBLISH
X-WR-CALNAME:Zambia Institute of Chartered Accountants
X-ORIGINAL-URL:https://www.zica.co.zm
X-WR-CALDESC:Events for Zambia Institute of Chartered Accountants
BEGIN:VEVENT
DTSTART;TZID=Africa/Lusaka:20230811T083000
DTEND;TZID=Africa/Lusaka:20230811T150000
DTSTAMP:20260420T203405
CREATED:20221219T144847Z
LAST-MODIFIED:20221219T144851Z
UID:26177-1691742600-1691766000@www.zica.co.zm
SUMMARY:Annual General Meeting
DESCRIPTION:
URL:https://www.zica.co.zm/event/annual-general-meeting/
LOCATION:David Livingstone Safari Lodge\, Livingstone\, Southern Province\, Zambia
CATEGORIES:CPD Calendar 2023
ORGANIZER;CN="ZiCA":MAILTO:marketingandcomm@zica.co.zm
END:VEVENT
END:VCALENDAR