BEGIN:VCALENDAR
VERSION:2.0
PRODID:-//Zambia Institute of Chartered Accountants - ECPv4.6.7//NONSGML v1.0//EN
CALSCALE:GREGORIAN
METHOD:PUBLISH
X-WR-CALNAME:Zambia Institute of Chartered Accountants
X-ORIGINAL-URL:https://www.zica.co.zm
X-WR-CALDESC:Events for Zambia Institute of Chartered Accountants
BEGIN:VEVENT
DTSTART;TZID=Africa/Lusaka:20200716T080000
DTEND;TZID=Africa/Lusaka:20200717T170000
DTSTAMP:20260423T212809
CREATED:20191127T100226Z
LAST-MODIFIED:20191127T100226Z
UID:17124-1594886400-1595005200@www.zica.co.zm
SUMMARY:Auditing Standards Updates - Ndola
DESCRIPTION:
URL:https://www.zica.co.zm/event/auditing-standards-updates-ndola/
CATEGORIES:CPD Calendar 2020
END:VEVENT
END:VCALENDAR