BEGIN:VCALENDAR
VERSION:2.0
PRODID:-//Zambia Institute of Chartered Accountants - ECPv4.6.7//NONSGML v1.0//EN
CALSCALE:GREGORIAN
METHOD:PUBLISH
X-WR-CALNAME:Zambia Institute of Chartered Accountants
X-ORIGINAL-URL:https://www.zica.co.zm
X-WR-CALDESC:Events for Zambia Institute of Chartered Accountants
BEGIN:VEVENT
DTSTART;TZID=Africa/Lusaka:20191209T140000
DTEND;TZID=Africa/Lusaka:20191209T170000
DTSTAMP:20260424T144119
CREATED:20191022T122218Z
LAST-MODIFIED:20191022T122255Z
UID:16743-1575900000-1575910800@www.zica.co.zm
SUMMARY:DA7 – Principles of Management
DESCRIPTION:
URL:https://www.zica.co.zm/event/da7-principles-management-3/
CATEGORIES:Diploma in Accountancy Exams,Exams
END:VEVENT
END:VCALENDAR