BEGIN:VCALENDAR
VERSION:2.0
PRODID:-//Zambia Institute of Chartered Accountants - ECPv4.6.7//NONSGML v1.0//EN
CALSCALE:GREGORIAN
METHOD:PUBLISH
X-WR-CALNAME:Zambia Institute of Chartered Accountants
X-ORIGINAL-URL:https://www.zica.co.zm
X-WR-CALDESC:Events for Zambia Institute of Chartered Accountants
BEGIN:VEVENT
DTSTART;TZID=Africa/Lusaka:20200625T080000
DTEND;TZID=Africa/Lusaka:20200626T170000
DTSTAMP:20260423T231453
CREATED:20191127T095813Z
LAST-MODIFIED:20191127T095839Z
UID:17120-1593072000-1593190800@www.zica.co.zm
SUMMARY:Internal Auditors Conference - Livingstone
DESCRIPTION:
URL:https://www.zica.co.zm/event/internal-auditors-conference-livingstone-2/
CATEGORIES:CPD Calendar 2020
END:VEVENT
END:VCALENDAR