BEGIN:VCALENDAR
VERSION:2.0
PRODID:-//Zambia Institute of Chartered Accountants - ECPv4.6.7//NONSGML v1.0//EN
CALSCALE:GREGORIAN
METHOD:PUBLISH
X-WR-CALNAME:Zambia Institute of Chartered Accountants
X-ORIGINAL-URL:https://www.zica.co.zm
X-WR-CALDESC:Events for Zambia Institute of Chartered Accountants
BEGIN:VEVENT
DTSTART;TZID=Africa/Lusaka:20230330T080000
DTEND;TZID=Africa/Lusaka:20230331T163000
DTSTAMP:20260421T032420
CREATED:20221219T120720Z
LAST-MODIFIED:20230331T194041Z
UID:26147-1680163200-1680280200@www.zica.co.zm
SUMMARY:IPSAS Workshop
DESCRIPTION:
URL:https://www.zica.co.zm/event/ipsas-workshop/
CATEGORIES:CPD Calendar 2023
ORGANIZER;CN="ZiCA":MAILTO:marketingandcomm@zica.co.zm
END:VEVENT
END:VCALENDAR