BEGIN:VCALENDAR
VERSION:2.0
PRODID:-//Zambia Institute of Chartered Accountants - ECPv4.6.7//NONSGML v1.0//EN
CALSCALE:GREGORIAN
METHOD:PUBLISH
X-WR-CALNAME:Zambia Institute of Chartered Accountants
X-ORIGINAL-URL:https://www.zica.co.zm
X-WR-CALDESC:Events for Zambia Institute of Chartered Accountants
BEGIN:VEVENT
DTSTART;TZID=Africa/Lusaka:20200424T080000
DTEND;TZID=Africa/Lusaka:20200424T170000
DTSTAMP:20260420T123248
CREATED:20191127T131015Z
LAST-MODIFIED:20191127T131100Z
UID:17158-1587715200-1587747600@www.zica.co.zm
SUMMARY:Release of March 2020 Examination Results
DESCRIPTION:
URL:https://www.zica.co.zm/event/release-march-2020-examination-results/
CATEGORIES:Critical Dates
END:VEVENT
END:VCALENDAR