BEGIN:VCALENDAR
VERSION:2.0
PRODID:-//Zambia Institute of Chartered Accountants - ECPv4.6.7//NONSGML v1.0//EN
CALSCALE:GREGORIAN
METHOD:PUBLISH
X-WR-CALNAME:Zambia Institute of Chartered Accountants
X-ORIGINAL-URL:https://www.zica.co.zm
X-WR-CALDESC:Events for Zambia Institute of Chartered Accountants
BEGIN:VEVENT
DTSTART;TZID=Africa/Lusaka:20200529T080000
DTEND;TZID=Africa/Lusaka:20200529T170000
DTSTAMP:20260424T004950
CREATED:20200225T074140Z
LAST-MODIFIED:20200313T070809Z
UID:17812-1590739200-1590771600@www.zica.co.zm
SUMMARY:Special Practitioners Forum - Ndola
DESCRIPTION:
URL:https://www.zica.co.zm/event/special-practitioners-forum-ndola/
CATEGORIES:CPD Calendar 2020
END:VEVENT
END:VCALENDAR