BEGIN:VCALENDAR
VERSION:2.0
PRODID:-//Zambia Institute of Chartered Accountants - ECPv4.6.7//NONSGML v1.0//EN
CALSCALE:GREGORIAN
METHOD:PUBLISH
X-WR-CALNAME:Zambia Institute of Chartered Accountants
X-ORIGINAL-URL:https://www.zica.co.zm
X-WR-CALDESC:Events for Zambia Institute of Chartered Accountants
BEGIN:VEVENT
DTSTART;TZID=Africa/Lusaka:20231123T160000
DTEND;TZID=Africa/Lusaka:20231123T180000
DTSTAMP:20260420T152300
CREATED:20221219T151230Z
LAST-MODIFIED:20221219T151502Z
UID:26197-1700755200-1700762400@www.zica.co.zm
SUMMARY:Virtual Accountants Forum
DESCRIPTION:
URL:https://www.zica.co.zm/event/virtual-accountants-forum-14/
LOCATION:Zambia
CATEGORIES:CPD Calendar 2023
ORGANIZER;CN="ZiCA":MAILTO:marketingandcomm@zica.co.zm
END:VEVENT
END:VCALENDAR