BEGIN:VCALENDAR
VERSION:2.0
PRODID:-//Zambia Institute of Chartered Accountants - ECPv4.6.7//NONSGML v1.0//EN
CALSCALE:GREGORIAN
METHOD:PUBLISH
X-WR-CALNAME:Zambia Institute of Chartered Accountants
X-ORIGINAL-URL:https://www.zica.co.zm
X-WR-CALDESC:Events for Zambia Institute of Chartered Accountants
BEGIN:VEVENT
DTSTART;TZID=Africa/Lusaka:20230217T080000
DTEND;TZID=Africa/Lusaka:20230217T130000
DTSTAMP:20260421T065825
CREATED:20221219T115653Z
LAST-MODIFIED:20221219T120613Z
UID:26142-1676620800-1676638800@www.zica.co.zm
SUMMARY:Tax Updates - Ndola
DESCRIPTION:
URL:https://www.zica.co.zm/event/tax-updates-ndola/
CATEGORIES:CPD Calendar 2023
ORGANIZER;CN="ZiCA":MAILTO:marketingandcomm@zica.co.zm
END:VEVENT
END:VCALENDAR