BEGIN:VCALENDAR
VERSION:2.0
PRODID:-//Zambia Institute of Chartered Accountants - ECPv4.6.7//NONSGML v1.0//EN
CALSCALE:GREGORIAN
METHOD:PUBLISH
X-WR-CALNAME:Zambia Institute of Chartered Accountants
X-ORIGINAL-URL:https://www.zica.co.zm
X-WR-CALDESC:Events for Zambia Institute of Chartered Accountants
BEGIN:VEVENT
DTSTART;TZID=Africa/Lusaka:20230306T083000
DTEND;TZID=Africa/Lusaka:20230306T130000
DTSTAMP:20260421T053528
CREATED:20221219T153719Z
LAST-MODIFIED:20221219T154255Z
UID:26203-1678091400-1678107600@www.zica.co.zm
SUMMARY:Practitioners Forum
DESCRIPTION:
URL:https://www.zica.co.zm/event/practitioners-forum/
CATEGORIES:CPD Calendar 2023
END:VEVENT
END:VCALENDAR