BEGIN:VCALENDAR
VERSION:2.0
PRODID:-//Zambia Institute of Chartered Accountants - ECPv4.6.7//NONSGML v1.0//EN
CALSCALE:GREGORIAN
METHOD:PUBLISH
X-WR-CALNAME:Zambia Institute of Chartered Accountants
X-ORIGINAL-URL:https://www.zica.co.zm
X-WR-CALDESC:Events for Zambia Institute of Chartered Accountants
BEGIN:VEVENT
DTSTART;TZID=Africa/Lusaka:20230412T080000
DTEND;TZID=Africa/Lusaka:20230414T170000
DTSTAMP:20260421T033128
CREATED:20221219T131514Z
LAST-MODIFIED:20221219T131519Z
UID:26153-1681286400-1681491600@www.zica.co.zm
SUMMARY:International Executive Retreat - Livingstone
DESCRIPTION:
URL:https://www.zica.co.zm/event/international-executive-retreat-livingstone/
LOCATION:David Livingstone Safari Lodge\, Livingstone\, Southern Province\, Zambia
CATEGORIES:CPD Calendar 2023
ORGANIZER;CN="ZiCA":MAILTO:marketingandcomm@zica.co.zm
END:VEVENT
END:VCALENDAR