BEGIN:VCALENDAR
VERSION:2.0
PRODID:-//Zambia Institute of Chartered Accountants - ECPv4.6.7//NONSGML v1.0//EN
CALSCALE:GREGORIAN
METHOD:PUBLISH
X-WR-CALNAME:Zambia Institute of Chartered Accountants
X-ORIGINAL-URL:https://www.zica.co.zm
X-WR-CALDESC:Events for Zambia Institute of Chartered Accountants
BEGIN:VEVENT
DTSTART;TZID=Africa/Lusaka:20230515T080000
DTEND;TZID=Africa/Lusaka:20230518T170000
DTSTAMP:20260421T013750
CREATED:20221219T140710Z
LAST-MODIFIED:20221219T145123Z
UID:26160-1684137600-1684429200@www.zica.co.zm
SUMMARY:African Congress of Accountants 2023-  Côte d'Ivoire
DESCRIPTION:
URL:https://www.zica.co.zm/event/african-congress-accountants-2023-cote-divoire/
LOCATION:Abidjan\, Côte d'Ivoire
CATEGORIES:CPD Calendar 2023
END:VEVENT
END:VCALENDAR