BEGIN:VCALENDAR
VERSION:2.0
PRODID:-//Zambia Institute of Chartered Accountants - ECPv4.6.7//NONSGML v1.0//EN
CALSCALE:GREGORIAN
METHOD:PUBLISH
X-WR-CALNAME:Zambia Institute of Chartered Accountants
X-ORIGINAL-URL:https://www.zica.co.zm
X-WR-CALDESC:Events for Zambia Institute of Chartered Accountants
BEGIN:VEVENT
DTSTART;TZID=Africa/Lusaka:20230616T080000
DTEND;TZID=Africa/Lusaka:20230616T170000
DTSTAMP:20260420T234703
CREATED:20221219T141106Z
LAST-MODIFIED:20221219T141106Z
UID:26166-1686902400-1686934800@www.zica.co.zm
SUMMARY:CFOs Workshop - Lusaka
DESCRIPTION:
URL:https://www.zica.co.zm/event/cfos-workshop-lusaka-5/
LOCATION:Lusaka
CATEGORIES:CPD Calendar 2023
ORGANIZER;CN="ZiCA":MAILTO:marketingandcomm@zica.co.zm
END:VEVENT
END:VCALENDAR