BEGIN:VCALENDAR
VERSION:2.0
PRODID:-//Zambia Institute of Chartered Accountants - ECPv4.6.7//NONSGML v1.0//EN
CALSCALE:GREGORIAN
METHOD:PUBLISH
X-WR-CALNAME:Zambia Institute of Chartered Accountants
X-ORIGINAL-URL:https://www.zica.co.zm
X-WR-CALDESC:Events for Zambia Institute of Chartered Accountants
BEGIN:VEVENT
DTSTART;TZID=Africa/Lusaka:20231011T080000
DTEND;TZID=Africa/Lusaka:20231014T163000
DTSTAMP:20260420T170830
CREATED:20221219T145723Z
LAST-MODIFIED:20221219T145726Z
UID:26189-1697011200-1697301000@www.zica.co.zm
SUMMARY:Annual Business Conference - Livingstone
DESCRIPTION:
URL:https://www.zica.co.zm/event/annual-business-conference-livingstone-4/
LOCATION:David Livingstone Safari Lodge\, Livingstone\, Southern Province\, Zambia
CATEGORIES:CPD Calendar 2023
ORGANIZER;CN="ZiCA":MAILTO:marketingandcomm@zica.co.zm
END:VEVENT
END:VCALENDAR