BEGIN:VCALENDAR
VERSION:2.0
PRODID:-//Zambia Institute of Chartered Accountants - ECPv4.6.7//NONSGML v1.0//EN
CALSCALE:GREGORIAN
METHOD:PUBLISH
X-WR-CALNAME:Zambia Institute of Chartered Accountants
X-ORIGINAL-URL:https://www.zica.co.zm
X-WR-CALDESC:Events for Zambia Institute of Chartered Accountants
BEGIN:VEVENT
DTSTART;TZID=Africa/Lusaka:20231030T080000
DTEND;TZID=Africa/Lusaka:20231030T170000
DTSTAMP:20260420T151833
CREATED:20221219T160001Z
LAST-MODIFIED:20221219T160005Z
UID:26215-1698652800-1698685200@www.zica.co.zm
SUMMARY:Practitioners Forum - Lusaka
DESCRIPTION:
URL:https://www.zica.co.zm/event/practitioners-forum-lusaka-2/
LOCATION:Lusaka
CATEGORIES:CPD Calendar 2023
END:VEVENT
END:VCALENDAR