BEGIN:VCALENDAR
VERSION:2.0
PRODID:-//Zambia Institute of Chartered Accountants - ECPv4.6.7//NONSGML v1.0//EN
CALSCALE:GREGORIAN
METHOD:PUBLISH
X-WR-CALNAME:Zambia Institute of Chartered Accountants
X-ORIGINAL-URL:https://www.zica.co.zm
X-WR-CALDESC:Events for Zambia Institute of Chartered Accountants
BEGIN:VEVENT
DTSTART;TZID=Africa/Lusaka:20240129T083000
DTEND;TZID=Africa/Lusaka:20240129T150000
DTSTAMP:20260420T102909
CREATED:20240129T033502Z
LAST-MODIFIED:20240129T033502Z
UID:29819-1706517000-1706540400@www.zica.co.zm
SUMMARY:Annual General Meeting
DESCRIPTION:
URL:https://www.zica.co.zm/event/annual-general-meeting-2/
LOCATION:David Livingstone Safari Lodge\, Livingstone\, Southern Province\, Zambia
CATEGORIES:CPD Calender 2024
ORGANIZER;CN="ZiCA":MAILTO:marketingandcomm@zica.co.zm
END:VEVENT
END:VCALENDAR