BEGIN:VCALENDAR
VERSION:2.0
PRODID:-//Zambia Institute of Chartered Accountants - ECPv4.6.7//NONSGML v1.0//EN
CALSCALE:GREGORIAN
METHOD:PUBLISH
X-WR-CALNAME:Zambia Institute of Chartered Accountants
X-ORIGINAL-URL:https://www.zica.co.zm
X-WR-CALDESC:Events for Zambia Institute of Chartered Accountants
BEGIN:VEVENT
DTSTART;VALUE=DATE:20260903
DTEND;VALUE=DATE:20260904
DTSTAMP:20260422T214308
CREATED:20260227T143830Z
LAST-MODIFIED:20260227T144020Z
UID:36593-1788393600-1788479999@www.zica.co.zm
SUMMARY:Virtual Accountants Forum
DESCRIPTION:Virtual Accountants Forum \n2 CPD’s \n
URL:https://www.zica.co.zm/event/virtual-accountants-forum-30/
CATEGORIES:CPD Calendar 2026
END:VEVENT
END:VCALENDAR