BEGIN:VCALENDAR
VERSION:2.0
PRODID:-//Zambia Institute of Chartered Accountants - ECPv4.6.7//NONSGML v1.0//EN
CALSCALE:GREGORIAN
METHOD:PUBLISH
X-WR-CALNAME:Zambia Institute of Chartered Accountants
X-ORIGINAL-URL:https://www.zica.co.zm
X-WR-CALDESC:Events for Zambia Institute of Chartered Accountants
BEGIN:VEVENT
DTSTART;TZID=Africa/Lusaka:20260904T080000
DTEND;TZID=Africa/Lusaka:20260904T170000
DTSTAMP:20260422T233605
CREATED:20260227T143534Z
LAST-MODIFIED:20260227T143534Z
UID:36589-1788508800-1788541200@www.zica.co.zm
SUMMARY:Graduation Ceremony
DESCRIPTION:Graduation Ceremony \n
URL:https://www.zica.co.zm/event/graduation-ceremony-3/
CATEGORIES:CPD Calendar 2026
END:VEVENT
END:VCALENDAR