BEGIN:VCALENDAR
VERSION:2.0
PRODID:-//Zambia Institute of Chartered Accountants - ECPv4.6.7//NONSGML v1.0//EN
CALSCALE:GREGORIAN
METHOD:PUBLISH
X-WR-CALNAME:Zambia Institute of Chartered Accountants
X-ORIGINAL-URL:https://www.zica.co.zm
X-WR-CALDESC:Events for Zambia Institute of Chartered Accountants
BEGIN:VEVENT
DTSTART;TZID=Africa/Lusaka:20180223T080000
DTEND;TZID=Africa/Lusaka:20180223T170000
DTSTAMP:20260422T103344
CREATED:20171228T142141Z
LAST-MODIFIED:20171228T142141Z
UID:9255-1519372800-1519405200@www.zica.co.zm
SUMMARY:Accountants Forum - Kitwe
DESCRIPTION:
URL:https://www.zica.co.zm/event/accountants-forum-kitwe/
CATEGORIES:Critical Dates
ATTACH;FMTTYPE=image/jpeg:https://www.zica.co.zm/wp-content/uploads/2017/12/ZICA-CriticalDatesImage-December2017.jpg
END:VEVENT
END:VCALENDAR