BEGIN:VCALENDAR
VERSION:2.0
PRODID:-//Zambia Institute of Chartered Accountants - ECPv4.6.7//NONSGML v1.0//EN
CALSCALE:GREGORIAN
METHOD:PUBLISH
X-WR-CALNAME:Zambia Institute of Chartered Accountants
X-ORIGINAL-URL:https://www.zica.co.zm
X-WR-CALDESC:Events for Zambia Institute of Chartered Accountants
BEGIN:VEVENT
DTSTART;TZID=Africa/Lusaka:20180612T080000
DTEND;TZID=Africa/Lusaka:20180616T170000
DTSTAMP:20260422T032136
CREATED:20171228T142849Z
LAST-MODIFIED:20171228T142849Z
UID:9272-1528790400-1529168400@www.zica.co.zm
SUMMARY:Examinations for Accountancy and Taxation Programmes
DESCRIPTION:
URL:https://www.zica.co.zm/event/examinations-accountancy-taxation-programmes/
CATEGORIES:Critical Dates
ATTACH;FMTTYPE=image/jpeg:https://www.zica.co.zm/wp-content/uploads/2017/12/ZICA-CriticalDatesImage-December2017.jpg
END:VEVENT
END:VCALENDAR