BEGIN:VCALENDAR
VERSION:2.0
PRODID:-//Zambia Institute of Chartered Accountants - ECPv4.6.7//NONSGML v1.0//EN
CALSCALE:GREGORIAN
METHOD:PUBLISH
X-WR-CALNAME:Zambia Institute of Chartered Accountants
X-ORIGINAL-URL:https://www.zica.co.zm
X-WR-CALDESC:Events for Zambia Institute of Chartered Accountants
BEGIN:VEVENT
DTSTART;TZID=Africa/Lusaka:20180825T080000
DTEND;TZID=Africa/Lusaka:20180825T170000
DTSTAMP:20260421T233635
CREATED:20171228T143420Z
LAST-MODIFIED:20171228T143420Z
UID:9277-1535184000-1535216400@www.zica.co.zm
SUMMARY:Accountants Forum - KItwe
DESCRIPTION:
URL:https://www.zica.co.zm/event/accountants-forum-kitwe-3/
CATEGORIES:Critical Dates
ATTACH;FMTTYPE=image/jpeg:https://www.zica.co.zm/wp-content/uploads/2017/12/ZICA-CriticalDatesImage-December2017.jpg
END:VEVENT
END:VCALENDAR