BEGIN:VCALENDAR
VERSION:2.0
PRODID:-//Zambia Institute of Chartered Accountants - ECPv4.6.7//NONSGML v1.0//EN
CALSCALE:GREGORIAN
METHOD:PUBLISH
X-WR-CALNAME:Zambia Institute of Chartered Accountants
X-ORIGINAL-URL:https://www.zica.co.zm
X-WR-CALDESC:Events for Zambia Institute of Chartered Accountants
BEGIN:VEVENT
DTSTART;TZID=Africa/Lusaka:20180924T080000
DTEND;TZID=Africa/Lusaka:20180924T170000
DTSTAMP:20260421T213641
CREATED:20171228T143629Z
LAST-MODIFIED:20171228T143629Z
UID:9281-1537776000-1537808400@www.zica.co.zm
SUMMARY:Accountants Forum - Lusaka
DESCRIPTION:
URL:https://www.zica.co.zm/event/accountants-forum-lusaka-3/
CATEGORIES:Critical Dates
ATTACH;FMTTYPE=image/jpeg:https://www.zica.co.zm/wp-content/uploads/2017/12/ZICA-CriticalDatesImage-December2017.jpg
END:VEVENT
BEGIN:VEVENT
DTSTART;TZID=Africa/Lusaka:20180924T080000
DTEND;TZID=Africa/Lusaka:20180924T170000
DTSTAMP:20260421T213641
CREATED:20171228T143743Z
LAST-MODIFIED:20171228T143743Z
UID:9284-1537776000-1537808400@www.zica.co.zm
SUMMARY:Deadline for payments of December 2018 Examinations
DESCRIPTION:
URL:https://www.zica.co.zm/event/deadline-payments-december-2018-examinations/
CATEGORIES:Critical Dates
ATTACH;FMTTYPE=image/jpeg:https://www.zica.co.zm/wp-content/uploads/2017/12/ZICA-CriticalDatesImage-December2017.jpg
END:VEVENT
END:VCALENDAR