BEGIN:VCALENDAR
VERSION:2.0
PRODID:-//Zambia Institute of Chartered Accountants - ECPv4.6.7//NONSGML v1.0//EN
CALSCALE:GREGORIAN
METHOD:PUBLISH
X-WR-CALNAME:Zambia Institute of Chartered Accountants
X-ORIGINAL-URL:https://www.zica.co.zm
X-WR-CALDESC:Events for Zambia Institute of Chartered Accountants
BEGIN:VEVENT
DTSTART;TZID=Africa/Lusaka:20181130T080000
DTEND;TZID=Africa/Lusaka:20181130T170000
DTSTAMP:20260421T162047
CREATED:20171228T143918Z
LAST-MODIFIED:20181121T110850Z
UID:9287-1543564800-1543597200@www.zica.co.zm
SUMMARY:Accountants Forum - Copperbelt
DESCRIPTION:
URL:https://www.zica.co.zm/event/accountants-forum-lusaka-4/
CATEGORIES:Critical Dates
ATTACH;FMTTYPE=image/jpeg:https://www.zica.co.zm/wp-content/uploads/2017/12/ZICA-CriticalDatesImage-December2017.jpg
END:VEVENT
END:VCALENDAR