BEGIN:VCALENDAR
VERSION:2.0
PRODID:-//Zambia Institute of Chartered Accountants - ECPv4.6.7//NONSGML v1.0//EN
CALSCALE:GREGORIAN
METHOD:PUBLISH
X-WR-CALNAME:Zambia Institute of Chartered Accountants
X-ORIGINAL-URL:https://www.zica.co.zm
X-WR-CALDESC:Events for Zambia Institute of Chartered Accountants
BEGIN:VEVENT
DTSTART;TZID=Africa/Lusaka:20181219T080000
DTEND;TZID=Africa/Lusaka:20181221T170000
DTSTAMP:20260421T162137
CREATED:20171229T111630Z
LAST-MODIFIED:20171229T112130Z
UID:9349-1545206400-1545411600@www.zica.co.zm
SUMMARY:Annual General Meeting-Lusaka
DESCRIPTION:
URL:https://www.zica.co.zm/event/annual-general-meeting-lusaka/
CATEGORIES:Critical Dates
ATTACH;FMTTYPE=image/jpeg:https://www.zica.co.zm/wp-content/uploads/2017/12/ZICA-CriticalDatesImage-December2017.jpg
END:VEVENT
END:VCALENDAR