BEGIN:VCALENDAR
VERSION:2.0
PRODID:-//Zambia Institute of Chartered Accountants - ECPv4.6.7//NONSGML v1.0//EN
CALSCALE:GREGORIAN
METHOD:PUBLISH
X-WR-CALNAME:Zambia Institute of Chartered Accountants
X-ORIGINAL-URL:https://www.zica.co.zm
X-WR-CALDESC:Events for Zambia Institute of Chartered Accountants
BEGIN:VEVENT
DTSTART;TZID=Africa/Lusaka:20181227T080000
DTEND;TZID=Africa/Lusaka:20181227T170000
DTSTAMP:20260421T162143
CREATED:20171229T110300Z
LAST-MODIFIED:20171229T112011Z
UID:9341-1545897600-1545930000@www.zica.co.zm
SUMMARY:Special Accountants Forum
DESCRIPTION:
URL:https://www.zica.co.zm/event/special-accountants-forum/
CATEGORIES:Critical Dates
ATTACH;FMTTYPE=image/jpeg:https://www.zica.co.zm/wp-content/uploads/2017/12/ZICA-CriticalDatesImage-December2017.jpg
END:VEVENT
END:VCALENDAR