BEGIN:VCALENDAR
VERSION:2.0
PRODID:-//Zambia Institute of Chartered Accountants - ECPv4.6.7//NONSGML v1.0//EN
CALSCALE:GREGORIAN
METHOD:PUBLISH
X-WR-CALNAME:Zambia Institute of Chartered Accountants
X-ORIGINAL-URL:https://www.zica.co.zm
X-WR-CALDESC:Events for Zambia Institute of Chartered Accountants
BEGIN:VEVENT
DTSTART;TZID=Africa/Lusaka:20190222T080000
DTEND;TZID=Africa/Lusaka:20190322T170000
DTSTAMP:20260421T114056
CREATED:20190125T075350Z
LAST-MODIFIED:20190125T075600Z
UID:14402-1550822400-1553274000@www.zica.co.zm
SUMMARY:TAX UPDATE WORKSHOP - KITWE
DESCRIPTION:
URL:https://www.zica.co.zm/event/tax-update-workshop-kitwe/
CATEGORIES:CPD Calendar 2019,Critical Dates
END:VEVENT
END:VCALENDAR