BEGIN:VCALENDAR
VERSION:2.0
PRODID:-//Zambia Institute of Chartered Accountants - ECPv4.6.7//NONSGML v1.0//EN
CALSCALE:GREGORIAN
METHOD:PUBLISH
X-WR-CALNAME:Zambia Institute of Chartered Accountants
X-ORIGINAL-URL:https://www.zica.co.zm
X-WR-CALDESC:Events for Zambia Institute of Chartered Accountants
BEGIN:VEVENT
DTSTART;TZID=Africa/Lusaka:20190331T080000
DTEND;TZID=Africa/Lusaka:20190331T170000
DTSTAMP:20260421T113635
CREATED:20190125T143524Z
LAST-MODIFIED:20190125T143754Z
UID:14442-1554019200-1554051600@www.zica.co.zm
SUMMARY:DUE DATE FOR PAYMENT OF EXAMINATIONS FEES FOR JUNE 2019 EXAMS
DESCRIPTION:
URL:https://www.zica.co.zm/event/due-date-payment-examinations-fees-june-2019-exams/
CATEGORIES:Critical Dates,Student Events
END:VEVENT
END:VCALENDAR