BEGIN:VCALENDAR
VERSION:2.0
PRODID:-//Zambia Institute of Chartered Accountants - ECPv4.6.7//NONSGML v1.0//EN
CALSCALE:GREGORIAN
METHOD:PUBLISH
X-WR-CALNAME:Zambia Institute of Chartered Accountants
X-ORIGINAL-URL:https://www.zica.co.zm
X-WR-CALDESC:Events for Zambia Institute of Chartered Accountants
BEGIN:VEVENT
DTSTART;TZID=Africa/Lusaka:20190510T160000
DTEND;TZID=Africa/Lusaka:20190510T180000
DTSTAMP:20260421T081240
CREATED:20190509T085209Z
LAST-MODIFIED:20190509T085229Z
UID:15378-1557504000-1557511200@www.zica.co.zm
SUMMARY:Consultative Forum - Accountants (Client Fees) Regulations
DESCRIPTION:
URL:https://www.zica.co.zm/event/consultative-forum-accountants-client-fees-regulations/
CATEGORIES:CPD Calendar 2019,Critical Dates
END:VEVENT
END:VCALENDAR