BEGIN:VCALENDAR
VERSION:2.0
PRODID:-//Zambia Institute of Chartered Accountants - ECPv4.6.7//NONSGML v1.0//EN
CALSCALE:GREGORIAN
METHOD:PUBLISH
X-WR-CALNAME:Zambia Institute of Chartered Accountants
X-ORIGINAL-URL:https://www.zica.co.zm
X-WR-CALDESC:Events for Zambia Institute of Chartered Accountants
BEGIN:VEVENT
DTSTART;TZID=Africa/Lusaka:20190523T080000
DTEND;TZID=Africa/Lusaka:20190523T170000
DTSTAMP:20260421T081248
CREATED:20190508T064417Z
LAST-MODIFIED:20190508T064437Z
UID:15337-1558598400-1558630800@www.zica.co.zm
SUMMARY:Sales Tax Breakfast Meeting - Livingstone
DESCRIPTION:
URL:https://www.zica.co.zm/event/sales-tax-breakfast-meeting-livingstone/
CATEGORIES:CPD Calendar 2019,Critical Dates
END:VEVENT
END:VCALENDAR