BEGIN:VCALENDAR
VERSION:2.0
PRODID:-//Zambia Institute of Chartered Accountants - ECPv4.6.7//NONSGML v1.0//EN
CALSCALE:GREGORIAN
METHOD:PUBLISH
X-WR-CALNAME:Zambia Institute of Chartered Accountants
X-ORIGINAL-URL:https://www.zica.co.zm
X-WR-CALDESC:Events for Zambia Institute of Chartered Accountants
BEGIN:VEVENT
DTSTART;TZID=Africa/Lusaka:20190920T080000
DTEND;TZID=Africa/Lusaka:20190920T080000
DTSTAMP:20260421T010006
CREATED:20190508T072918Z
LAST-MODIFIED:20190508T075556Z
UID:15350-1568966400-1568966400@www.zica.co.zm
SUMMARY:Accountants Forum - Lusaka
DESCRIPTION:
URL:https://www.zica.co.zm/event/accountants-forum-lusaka-7/
CATEGORIES:CPD Calendar 2019,Critical Dates
END:VEVENT
END:VCALENDAR