BEGIN:VCALENDAR
VERSION:2.0
PRODID:-//Zambia Institute of Chartered Accountants - ECPv4.6.7//NONSGML v1.0//EN
CALSCALE:GREGORIAN
METHOD:PUBLISH
X-WR-CALNAME:Zambia Institute of Chartered Accountants
X-ORIGINAL-URL:https://www.zica.co.zm
X-WR-CALDESC:Events for Zambia Institute of Chartered Accountants
BEGIN:VEVENT
DTSTART;TZID=Africa/Lusaka:20191004T080000
DTEND;TZID=Africa/Lusaka:20191004T130000
DTSTAMP:20260420T230637
CREATED:20181126T144624Z
LAST-MODIFIED:20190508T075851Z
UID:13746-1570176000-1570194000@www.zica.co.zm
SUMMARY:Practitioners Forum - Lusaka
DESCRIPTION:
URL:https://www.zica.co.zm/event/practitioner-forum-lusaka/
CATEGORIES:CPD Calendar 2019,Critical Dates
END:VEVENT
END:VCALENDAR