BEGIN:VCALENDAR
VERSION:2.0
PRODID:-//Zambia Institute of Chartered Accountants - ECPv4.6.7//NONSGML v1.0//EN
CALSCALE:GREGORIAN
METHOD:PUBLISH
X-WR-CALNAME:Zambia Institute of Chartered Accountants
X-ORIGINAL-URL:https://www.zica.co.zm
X-WR-CALDESC:Events for Zambia Institute of Chartered Accountants
BEGIN:VEVENT
DTSTART;TZID=Africa/Lusaka:20191025T080000
DTEND;TZID=Africa/Lusaka:20191025T170000
DTSTAMP:20260420T230821
CREATED:20190508T081329Z
LAST-MODIFIED:20190508T081549Z
UID:15366-1571990400-1572022800@www.zica.co.zm
SUMMARY:Accountants Forum - Kitwe
DESCRIPTION:
URL:https://www.zica.co.zm/event/accountants-forum-kitwe-7/
CATEGORIES:CPD Calendar 2019,Critical Dates
END:VEVENT
END:VCALENDAR