BEGIN:VCALENDAR
VERSION:2.0
PRODID:-//Zambia Institute of Chartered Accountants - ECPv4.6.7//NONSGML v1.0//EN
CALSCALE:GREGORIAN
METHOD:PUBLISH
X-WR-CALNAME:Zambia Institute of Chartered Accountants
X-ORIGINAL-URL:https://www.zica.co.zm
X-WR-CALDESC:Events for Zambia Institute of Chartered Accountants
BEGIN:VEVENT
DTSTART;TZID=Africa/Lusaka:20191101T080000
DTEND;TZID=Africa/Lusaka:20191101T170000
DTSTAMP:20260420T211722
CREATED:20190508T082200Z
LAST-MODIFIED:20190508T082523Z
UID:15368-1572595200-1572627600@www.zica.co.zm
SUMMARY:CPE Techniques Workshop - Kitwe
DESCRIPTION:
URL:https://www.zica.co.zm/event/cpe-techniques-workshop-kitwe/
CATEGORIES:CPD Calendar 2019,Critical Dates
END:VEVENT
END:VCALENDAR