BEGIN:VCALENDAR
VERSION:2.0
PRODID:-//Zambia Institute of Chartered Accountants - ECPv4.6.7//NONSGML v1.0//EN
CALSCALE:GREGORIAN
METHOD:PUBLISH
X-WR-CALNAME:Zambia Institute of Chartered Accountants
X-ORIGINAL-URL:https://www.zica.co.zm
X-WR-CALDESC:Events for Zambia Institute of Chartered Accountants
BEGIN:VEVENT
DTSTART;TZID=Africa/Lusaka:20200101T080000
DTEND;TZID=Africa/Lusaka:20200101T170000
DTSTAMP:20260420T173907
CREATED:20191127T123303Z
LAST-MODIFIED:20191127T124101Z
UID:17146-1577865600-1577898000@www.zica.co.zm
SUMMARY:Due date payment of annual subscription
DESCRIPTION:
URL:https://www.zica.co.zm/event/due-date-payment-annual-subscription/
CATEGORIES:Critical Dates
END:VEVENT
END:VCALENDAR