BEGIN:VCALENDAR
VERSION:2.0
PRODID:-//Zambia Institute of Chartered Accountants - ECPv4.6.7//NONSGML v1.0//EN
CALSCALE:GREGORIAN
METHOD:PUBLISH
X-WR-CALNAME:Zambia Institute of Chartered Accountants
X-ORIGINAL-URL:https://www.zica.co.zm
X-WR-CALDESC:Events for Zambia Institute of Chartered Accountants
BEGIN:VEVENT
DTSTART;TZID=Africa/Lusaka:20200615T080000
DTEND;TZID=Africa/Lusaka:20200619T170000
DTSTAMP:20260420T090047
CREATED:20191127T133359Z
LAST-MODIFIED:20191127T133359Z
UID:17168-1592208000-1592586000@www.zica.co.zm
SUMMARY:June 2020 Examinations
DESCRIPTION:
URL:https://www.zica.co.zm/event/june-2020-examinations/
CATEGORIES:Critical Dates
END:VEVENT
END:VCALENDAR